BEGIN:VCALENDAR
VERSION:2.0
PRODID:SchoolNow
CALSCALE:GREGORIAN
BEGIN:VEVENT
UID:68bb15c0-6f6a-11ee-b627-0a58a9feac02
DTSTAMP:20240729T165238Z
SUMMARY:Juneteenth (Observed) - Schools Closed
URL;VALUE=URI:https://www.columbiasecondary.org/calendar/4884514/juneteenth
 -observed-schools-closed
DTSTART;VALUE=DATE:20240619
DTEND;VALUE=DATE:20240620
END:VEVENT
END:VCALENDAR
