BEGIN:VCALENDAR
VERSION:2.0
PRODID:SchoolNow
CALSCALE:GREGORIAN
BEGIN:VEVENT
UID:68baf2b6-6f6a-11ee-a7b0-0a58a9feac02
DTSTAMP:20240729T165238Z
SUMMARY:Regents Exams - (except on 6/17 and 6/19)
URL;VALUE=URI:https://www.columbiasecondary.org/calendar/4884513/regents-ex
 ams-except-on-6-17-and-6-19
DTSTART;VALUE=DATE:20240614
DTEND;VALUE=DATE:20240627
END:VEVENT
END:VCALENDAR
