BEGIN:VCALENDAR
VERSION:2.0
PRODID:SchoolNow
CALSCALE:GREGORIAN
BEGIN:VEVENT
UID:68bad9e8-6f6a-11ee-a20e-0a58a9feac02
DTSTAMP:20240729T165238Z
SUMMARY:PTA General Meeting
URL;VALUE=URI:https://www.columbiasecondary.org/calendar/4884512/pta-genera
 l-meeting
DTSTART:20240611T221500Z
DTEND:20240611T233000Z
END:VEVENT
END:VCALENDAR
