BEGIN:VCALENDAR
VERSION:2.0
PRODID:SchoolNow
CALSCALE:GREGORIAN
BEGIN:VEVENT
UID:68babc06-6f6a-11ee-bb33-0a58a9feac02
DTSTAMP:20240729T165238Z
SUMMARY:Chancellor's Day - Students do not attend
URL;VALUE=URI:https://www.columbiasecondary.org/calendar/4884511/chancellor
 s-day-students-do-not-attend
DTSTART;VALUE=DATE:20240606
DTEND;VALUE=DATE:20240607
END:VEVENT
END:VCALENDAR
