BEGIN:VCALENDAR
VERSION:2.0
PRODID:SchoolNow
CALSCALE:GREGORIAN
BEGIN:VEVENT
UID:68baa1e4-6f6a-11ee-9c84-0a58a9feac02
DTSTAMP:20240729T165238Z
SUMMARY:Monthly Spirit Wear & Bake Sale
URL;VALUE=URI:https://www.columbiasecondary.org/calendar/4884510/monthly-sp
 irit-wear-bake-sale
DTSTART;VALUE=DATE:20240531
DTEND;VALUE=DATE:20240601
END:VEVENT
END:VCALENDAR
