BEGIN:VCALENDAR
VERSION:2.0
PRODID:SchoolNow
CALSCALE:GREGORIAN
BEGIN:VEVENT
UID:68ba8272-6f6a-11ee-a95f-0a58a9feac02
DTSTAMP:20240729T165238Z
SUMMARY:Memorial Day - Schools Closed
URL;VALUE=URI:https://www.columbiasecondary.org/calendar/4884509/memorial-d
 ay-schools-closed
DTSTART;VALUE=DATE:20240527
DTEND;VALUE=DATE:20240528
END:VEVENT
END:VCALENDAR
