BEGIN:VCALENDAR
VERSION:2.0
PRODID:SchoolNow
CALSCALE:GREGORIAN
BEGIN:VEVENT
UID:68ba67ec-6f6a-11ee-9f73-0a58a9feac02
DTSTAMP:20240729T165238Z
SUMMARY:Monthly Spirit Wear & Bake Sale
URL;VALUE=URI:https://www.columbiasecondary.org/calendar/4884508/monthly-sp
 irit-wear-bake-sale
DTSTART;VALUE=DATE:20240517
DTEND;VALUE=DATE:20240518
END:VEVENT
END:VCALENDAR
