BEGIN:VCALENDAR
VERSION:2.0
PRODID:SchoolNow
CALSCALE:GREGORIAN
BEGIN:VEVENT
UID:68ba4fe6-6f6a-11ee-a7e5-0a58a9feac02
DTSTAMP:20240729T165238Z
SUMMARY:PTA General Meeting
URL;VALUE=URI:https://www.columbiasecondary.org/calendar/4884507/pta-genera
 l-meeting
DTSTART:20240514T123000Z
DTEND:20240514T133000Z
END:VEVENT
END:VCALENDAR
