BEGIN:VCALENDAR
VERSION:2.0
PRODID:SchoolNow
CALSCALE:GREGORIAN
BEGIN:VEVENT
UID:68ba38c6-6f6a-11ee-b3fc-0a58a9feac02
DTSTAMP:20240729T165238Z
SUMMARY:AP Exams
URL;VALUE=URI:https://www.columbiasecondary.org/calendar/4884506/ap-exams
DTSTART;VALUE=DATE:20240501
DTEND;VALUE=DATE:20240513
END:VEVENT
END:VCALENDAR
