BEGIN:VCALENDAR
VERSION:2.0
PRODID:SchoolNow
CALSCALE:GREGORIAN
BEGIN:VEVENT
UID:68ba1cba-6f6a-11ee-aa53-0a58a9feac02
DTSTAMP:20240729T165238Z
SUMMARY:Spring Recess - Schools Closed
URL;VALUE=URI:https://www.columbiasecondary.org/calendar/4884505/spring-rec
 ess-schools-closed
DTSTART;VALUE=DATE:20240422
DTEND;VALUE=DATE:20240501
END:VEVENT
END:VCALENDAR
