BEGIN:VCALENDAR
VERSION:2.0
PRODID:SchoolNow
CALSCALE:GREGORIAN
BEGIN:VEVENT
UID:68ba0770-6f6a-11ee-a5e2-0a58a9feac02
DTSTAMP:20240729T165238Z
SUMMARY:Eid Al-Fitr - Schools Closed
URL;VALUE=URI:https://www.columbiasecondary.org/calendar/4884504/eid-al-fit
 r-schools-closed
DTSTART;VALUE=DATE:20240410
DTEND;VALUE=DATE:20240411
END:VEVENT
END:VCALENDAR
