BEGIN:VCALENDAR
VERSION:2.0
PRODID:SchoolNow
CALSCALE:GREGORIAN
BEGIN:VEVENT
UID:68b9ed3a-6f6a-11ee-8927-0a58a9feac02
DTSTAMP:20240729T165238Z
SUMMARY:PTA General Meeting
URL;VALUE=URI:https://www.columbiasecondary.org/calendar/4884503/pta-genera
 l-meeting
DTSTART:20240409T221500Z
DTEND:20240409T233000Z
END:VEVENT
END:VCALENDAR
