BEGIN:VCALENDAR
VERSION:2.0
PRODID:SchoolNow
CALSCALE:GREGORIAN
BEGIN:VEVENT
UID:68b9d6f6-6f6a-11ee-aff5-0a58a9feac02
DTSTAMP:20240729T165238Z
SUMMARY:Monthly Spirit Wear & Bake Sale
URL;VALUE=URI:https://www.columbiasecondary.org/calendar/4884502/monthly-sp
 irit-wear-bake-sale
DTSTART;VALUE=DATE:20240405
DTEND;VALUE=DATE:20240406
END:VEVENT
END:VCALENDAR
