BEGIN:VCALENDAR
VERSION:2.0
PRODID:SchoolNow
CALSCALE:GREGORIAN
BEGIN:VEVENT
UID:68b9c044-6f6a-11ee-bbf6-0a58a9feac02
DTSTAMP:20240729T165238Z
SUMMARY:Easter Weekend - Schools Closed
URL;VALUE=URI:https://www.columbiasecondary.org/calendar/4884501/easter-wee
 kend-schools-closed
DTSTART;VALUE=DATE:20240329
DTEND;VALUE=DATE:20240402
END:VEVENT
END:VCALENDAR
