BEGIN:VCALENDAR
VERSION:2.0
PRODID:SchoolNow
CALSCALE:GREGORIAN
BEGIN:VEVENT
UID:68b83792-6f6a-11ee-937b-0a58a9feac02
DTSTAMP:20240729T165238Z
SUMMARY:Last Day of School / Middle School Awards
URL;VALUE=URI:https://www.columbiasecondary.org/calendar/4884482/last-day-o
 f-school-middle-school-awards
DTSTART;VALUE=DATE:20240626
DTEND;VALUE=DATE:20240627
END:VEVENT
END:VCALENDAR
