BEGIN:VCALENDAR
VERSION:2.0
PRODID:SchoolNow
CALSCALE:GREGORIAN
BEGIN:VEVENT
UID:68b82608-6f6a-11ee-bb90-0a58a9feac02
DTSTAMP:20240729T165238Z
SUMMARY:High School Awards
URL;VALUE=URI:https://www.columbiasecondary.org/calendar/4884481/high-schoo
 l-awards
DTSTART;VALUE=DATE:20240625
DTEND;VALUE=DATE:20240626
END:VEVENT
END:VCALENDAR
