BEGIN:VCALENDAR
VERSION:2.0
PRODID:SchoolNow
CALSCALE:GREGORIAN
BEGIN:VEVENT
UID:68b81212-6f6a-11ee-91ca-0a58a9feac02
DTSTAMP:20240729T165238Z
SUMMARY:No School
URL;VALUE=URI:https://www.columbiasecondary.org/calendar/4884480/no-school
DTSTART;VALUE=DATE:20240617
DTEND;VALUE=DATE:20240618
END:VEVENT
END:VCALENDAR
