BEGIN:VCALENDAR
VERSION:2.0
PRODID:SchoolNow
CALSCALE:GREGORIAN
BEGIN:VEVENT
UID:68b8010a-6f6a-11ee-b517-0a58a9feac02
DTSTAMP:20240729T165238Z
SUMMARY:Last Day of HS Classes
URL;VALUE=URI:https://www.columbiasecondary.org/calendar/4884479/last-day-o
 f-hs-classes
DTSTART;VALUE=DATE:20240613
DTEND;VALUE=DATE:20240614
END:VEVENT
END:VCALENDAR
