BEGIN:VCALENDAR
VERSION:2.0
PRODID:SchoolNow
CALSCALE:GREGORIAN
BEGIN:VEVENT
UID:68b7f002-6f6a-11ee-a7bb-0a58a9feac02
DTSTAMP:20240729T165238Z
SUMMARY:LGBTQ+ Pride Showcase (school day\; school-wide)
URL;VALUE=URI:https://www.columbiasecondary.org/calendar/4884478/lgbtq-prid
 e-showcase-school-day-school-wide
DTSTART;VALUE=DATE:20240607
DTEND;VALUE=DATE:20240608
END:VEVENT
END:VCALENDAR
