BEGIN:VCALENDAR
VERSION:2.0
PRODID:SchoolNow
CALSCALE:GREGORIAN
BEGIN:VEVENT
UID:68b7def0-6f6a-11ee-a74e-0a58a9feac02
DTSTAMP:20240729T165238Z
SUMMARY:Celebration of Scholarship (evening)
URL;VALUE=URI:https://www.columbiasecondary.org/calendar/4884477/celebratio
 n-of-scholarship-evening
DTSTART;VALUE=DATE:20240529
DTEND;VALUE=DATE:20240530
END:VEVENT
END:VCALENDAR
