BEGIN:VCALENDAR
VERSION:2.0
PRODID:SchoolNow
CALSCALE:GREGORIAN
BEGIN:VEVENT
UID:68b7bc68-6f6a-11ee-a932-0a58a9feac02
DTSTAMP:20240729T165238Z
SUMMARY:Promotion in Doubt Conferences (remote)
URL;VALUE=URI:https://www.columbiasecondary.org/calendar/4884475/promotion-
 in-doubt-conferences-remote
DTSTART;VALUE=DATE:20240523
DTEND;VALUE=DATE:20240524
END:VEVENT
END:VCALENDAR
