BEGIN:VCALENDAR
VERSION:2.0
PRODID:SchoolNow
CALSCALE:GREGORIAN
BEGIN:VEVENT
UID:68b7aac0-6f6a-11ee-8e41-0a58a9feac02
DTSTAMP:20240729T165238Z
SUMMARY:International Heritage Month Potluck (evening event\; school-wide)
URL;VALUE=URI:https://www.columbiasecondary.org/calendar/4884474/internatio
 nal-heritage-month-potluck-evening-event-school-wide
DTSTART;VALUE=DATE:20240411
DTEND;VALUE=DATE:20240412
END:VEVENT
END:VCALENDAR
