BEGIN:VCALENDAR
VERSION:2.0
PRODID:SchoolNow
CALSCALE:GREGORIAN
BEGIN:VEVENT
UID:23d8b8e8-2be7-11ee-aeb6-0a58a9feac02
DTSTAMP:20230726T190343Z
SUMMARY:Summer School PTC
URL;VALUE=URI:https://www.columbiasecondary.org/calendar/4524361/summer-sch
 ool-ptc
DTSTART:20230727T160000Z
DTEND:20230727T170000Z
END:VEVENT
END:VCALENDAR
